BEGIN:VCALENDAR
VERSION:2.0
PRODID:-//Here4Horses - ECPv6.15.12.2//NONSGML v1.0//EN
CALSCALE:GREGORIAN
METHOD:PUBLISH
X-ORIGINAL-URL:https://here4horses.org.uk
X-WR-CALDESC:Events for Here4Horses
REFRESH-INTERVAL;VALUE=DURATION:PT1H
X-Robots-Tag:noindex
X-PUBLISHED-TTL:PT1H
BEGIN:VTIMEZONE
TZID:UTC
BEGIN:STANDARD
TZOFFSETFROM:+0000
TZOFFSETTO:+0000
TZNAME:UTC
DTSTART:20230101T000000
END:STANDARD
END:VTIMEZONE
BEGIN:VEVENT
DTSTART;TZID=UTC:20240216T180000
DTEND;TZID=UTC:20240216T220000
DTSTAMP:20260423T201541
CREATED:20240127T204540Z
LAST-MODIFIED:20240127T205826Z
UID:10100-1708106400-1708120800@here4horses.org.uk
SUMMARY:Tack & Tog Fundraising Evening
DESCRIPTION:Tack & Tog Sale • Social Prize Bingo Night • Raffle with Great Prizes \n\n\nHere4Horses volunteers will be there with charity merchandise – card payment option available. \n\n\nSellers: 5pm • Buyers: from 6pm • Bingo Evening: from 7.30pm (8pm First Bingo Game) \n\n\nWarm Indoor Venue – with a bar! (please note: cash only there will be no card facilities available) \n\n\nBuyers: £2 Entry • Bingo Cards: £5 Each • Sellers: £10 (for a 6ft table) \nFor anyone who has only 1 or 2 items for sale – please take pictures and for a minimum £1 donation you may pin up an A4 poster with your photos\, your name\, location and phone number – buyers can then photograph your poster and get in touch with you direct. \n\n\nWe have a limited number of sellers tables available so please book early: All bookings with Fiona Campbell by email at: antelopelodgefarm@gmail.com \n\n\nAs this is an indoor venue\, we do need to know numbers – buyers\, and those wishing to stay for the Social & Prize Bingo\, please email: antelopelodgefarm@gmail.com \n\n\nPayment will be taken in cash on the night – so please bring change. \n\n\nRemember we are all Here4Horses – out of respect for our venue and for the biosecurity of our horses\, will sellers please ensure all items are clean. \n\n\nAll visitors – Please have clean footwear and coats too – Thank you!
URL:https://here4horses.org.uk/event/tack-tog-fundraiser/
LOCATION:The Ranch House\, Skutterskelfe\, Nr Hutton Rudby\, Yarm\, TS15 0JR\, United Kingdom
ATTACH;FMTTYPE=image/jpeg:https://here4horses.org.uk/wp-content/uploads/2024/01/Here4Horses_Ranch_TackTog_Banner_WEB.jpg
END:VEVENT
END:VCALENDAR