BEGIN:VCALENDAR
VERSION:2.0
PRODID:-//Here4Horses - ECPv6.15.12.2//NONSGML v1.0//EN
CALSCALE:GREGORIAN
METHOD:PUBLISH
X-ORIGINAL-URL:https://here4horses.org.uk
X-WR-CALDESC:Events for Here4Horses
REFRESH-INTERVAL;VALUE=DURATION:PT1H
X-Robots-Tag:noindex
X-PUBLISHED-TTL:PT1H
BEGIN:VTIMEZONE
TZID:UTC
BEGIN:STANDARD
TZOFFSETFROM:+0000
TZOFFSETTO:+0000
TZNAME:UTC
DTSTART:20220101T000000
END:STANDARD
END:VTIMEZONE
BEGIN:VEVENT
DTSTART;TZID=UTC:20231126T103000
DTEND;TZID=UTC:20231126T153000
DTSTAMP:20260424T030955
CREATED:20230825T150450Z
LAST-MODIFIED:20230914T131956Z
UID:6082-1700994600-1701012600@here4horses.org.uk
SUMMARY:Indoor Christmas Fayre
DESCRIPTION:The Here4Horses Indoor Christmas Fair – Kindly hosted by Mr & Mrs Jeans \nHot Refreshments Including Mince Pies and Mulled Wine \nWhy not pop along and do a bit of Christmas Shopping? \nAdmission is £2 – payable on the day. \nTraders £20 per stand – To book a stand click HERE  Please be there by 9.30am to set up. \nFor further information please contact Wendy Strang on: wendystrang123@outlook.com
URL:https://here4horses.org.uk/event/indoor-christmas-fayre/
LOCATION:Tranwell Equestrian Centre\, Tranwell Farm\, Morpeth\, Northumberland\, NE61 6AF\, United Kingdom
ATTACH;FMTTYPE=image/jpeg:https://here4horses.org.uk/wp-content/uploads/2023/08/Here4Horses_Morpeth_Xmas_Fair_Banner3.jpg
END:VEVENT
END:VCALENDAR