BEGIN:VCALENDAR
VERSION:2.0
PRODID:-//Here4Horses - ECPv6.15.12.2//NONSGML v1.0//EN
CALSCALE:GREGORIAN
METHOD:PUBLISH
X-WR-CALNAME:Here4Horses
X-ORIGINAL-URL:https://here4horses.org.uk
X-WR-CALDESC:Events for Here4Horses
REFRESH-INTERVAL;VALUE=DURATION:PT1H
X-Robots-Tag:noindex
X-PUBLISHED-TTL:PT1H
BEGIN:VTIMEZONE
TZID:UTC
BEGIN:STANDARD
TZOFFSETFROM:+0000
TZOFFSETTO:+0000
TZNAME:UTC
DTSTART:20220101T000000
END:STANDARD
END:VTIMEZONE
BEGIN:VEVENT
DTSTART;TZID=UTC:20231001T100000
DTEND;TZID=UTC:20231001T150000
DTSTAMP:20260424T030800
CREATED:20230825T130156Z
LAST-MODIFIED:20230826T111714Z
UID:6116-1696154400-1696172400@here4horses.org.uk
SUMMARY:Autumn Rug & Tack Sale
DESCRIPTION:Almost 500 pre-loved items in various sizes. All in great condition. \n\n\nAndrew Gilbey at The Rug Fairy has been one of our most valued supporters from the outset. \n\n\nThis event will be our third Annual Autumn Rug and Tack Sale and we hope we can rely on Andrew’s invaluable help for many years to come. \n\n\nHere4Horses are proud to recommend The Rug Fairy – for all your cleaning and repairs. \n\n\nDon’t miss this opportunity to grab a great bargain in support of Here4Horses. \n\n\nTombola and Prize Raffle too! \n\n\nHot and cold refreshments available.
URL:https://here4horses.org.uk/event/autumn-rug-tack-sale/
LOCATION:Farnley Farm\, Hunwick\, Crook\, Co Durham\, DL15 0RB\, United Kingdom
ATTACH;FMTTYPE=image/jpeg:https://here4horses.org.uk/wp-content/uploads/2023/08/Here4Horses_Rug_Tack_Banner_02.jpg
END:VEVENT
BEGIN:VEVENT
DTSTART;TZID=UTC:20231008T083000
DTEND;TZID=UTC:20231008T140000
DTSTAMP:20260424T030800
CREATED:20230803T143847Z
LAST-MODIFIED:20230912T124631Z
UID:6045-1696753800-1696773600@here4horses.org.uk
SUMMARY:Pleasure Ride: 5k & 10K
DESCRIPTION:A fundraiser in aid of your local equine charity \nEnjoy a unique opportunity to explore a beautiful private\, mainly grass route\, not normally open to the public. \nSorry – strictly no jumping. Escorts can be available for first-timers and individuals who prefer company. \nRefreshments will be available. \nThere will be 2 options on the day: \nRoute 1 (10km) – Advance Entry Fee £20 – To enter click HERE \nRoute 2 (5km) – Advance Entry Fee £10 – To enter click HERE \nAll entries on the day – add £5 \nEnquiries to: events@here4horses.org.uk
URL:https://here4horses.org.uk/event/pleasure-ride-5-10/
LOCATION:Farnley Farm\, Hunwick\, Crook\, Co Durham\, DL15 0RB\, United Kingdom
ATTACH;FMTTYPE=image/jpeg:https://here4horses.org.uk/wp-content/uploads/2023/08/Here4Horses_Pleasure_Ride_Banner_NewDate.jpg
END:VEVENT
BEGIN:VEVENT
DTSTART;TZID=UTC:20231014T100000
DTEND;TZID=UTC:20231014T170000
DTSTAMP:20260424T030800
CREATED:20230825T123756Z
LAST-MODIFIED:20230829T101945Z
UID:6094-1697277600-1697302800@here4horses.org.uk
SUMMARY:Fun Showing Show
DESCRIPTION:A friendly day of fun for both new starters to showing and seasoned campaigners with 12 classes to suit all levels. \nKindly hosted by Todburn Equestrian Centre \nTrophy for winners of every class – Rosettes to 6th place – Spot Prizes \nRefreshments will be available – Tombola – Cake stall – Raffle \nEntries £10 per class – Entries on the day £12 \nClick HERE to download a schedule and entry form (pdf format) \nAny enquiries please contact Wendy Strang on: 07525 661216 or email: wendystrang123@outlook.com
URL:https://here4horses.org.uk/event/fun-showing-show/
LOCATION:Todburn East Farm\, Longhorsley\, Mortpeth\, Northumberland\, NE65 8QZ\, United Kingdom
ATTACH;FMTTYPE=image/jpeg:https://here4horses.org.uk/wp-content/uploads/2023/08/Here4Horses_Morpeth_Horse_Show_Banner2.jpg
END:VEVENT
END:VCALENDAR