BEGIN:VCALENDAR
VERSION:2.0
PRODID:-//Here4Horses - ECPv6.15.12.2//NONSGML v1.0//EN
CALSCALE:GREGORIAN
METHOD:PUBLISH
X-ORIGINAL-URL:https://here4horses.org.uk
X-WR-CALDESC:Events for Here4Horses
REFRESH-INTERVAL;VALUE=DURATION:PT1H
X-Robots-Tag:noindex
X-PUBLISHED-TTL:PT1H
BEGIN:VTIMEZONE
TZID:UTC
BEGIN:STANDARD
TZOFFSETFROM:+0000
TZOFFSETTO:+0000
TZNAME:UTC
DTSTART:20220101T000000
END:STANDARD
END:VTIMEZONE
BEGIN:VEVENT
DTSTART;TZID=UTC:20230709T080000
DTEND;TZID=UTC:20230709T170000
DTSTAMP:20260424T085045
CREATED:20230621T154349Z
LAST-MODIFIED:20230623T081549Z
UID:5950-1688889600-1688922000@here4horses.org.uk
SUMMARY:Charity Open Show 2023
DESCRIPTION:Entries are now open for the Here4Horses Charity Open Show 2023. \nSchedule/Entry Form/Payment Details can be downloaded HERE \nRidden and In-Hand classes – £10 per pre-entry (£12 on the day) or 3 for £28. \nAlways a great opportunity to compete in a friendly environment whilst helping your local equine charity. \nRosettes\, 1st to 6th place for all children. \nWe look forward to seeing you on the day!
URL:https://here4horses.org.uk/event/charity-open-show-2023/
LOCATION:Robinsons EquiTeach\, Tunstall Lane\, Middlesbrough\, TS7 0NU\, United Kingdom
ATTACH;FMTTYPE=image/jpeg:https://here4horses.org.uk/wp-content/uploads/2023/06/HFH303_Tunstall_Show_Banner.jpg
END:VEVENT
BEGIN:VEVENT
DTSTART;TZID=UTC:20230723T093000
DTEND;TZID=UTC:20230723T170000
DTSTAMP:20260424T085045
CREATED:20230214T194901Z
LAST-MODIFIED:20230214T201400Z
UID:5683-1690104600-1690131600@here4horses.org.uk
SUMMARY:Equine Performance & Safeguarding
DESCRIPTION:Recognise and understand optimum performance in the ridden horse\, in order to protect our social licence to operate in equestrianism. \nPresenters: Dr. Anne Bondi BHSI\, BHSAPC\, PGDip\, DProf. and Dr Sue Dyson MA Vet MB PhD DEO. Detailed bio’s can be found HERE \nHOW can we optimise ridden horse performance and train with the ‘happy athlete’ in mind? \nWHY do so many talented horses fail to live up to their promise or disappear from competition after a short career? \nWHAT behavioural signs to look out for as indicators of poor performance or underlying issues? \nWHAT can we do to protect our social licence to ride and compete? \nThis seminar will share new\, ground-breaking research information\, of value to Vets\, Coaches\, Riders\, Farrier’s and Therapists. \nJoin us to hear the latest evidence-based studies\, shaping the future of the equine sports industry. \nDiscover how practical application of this work will be a game-changer for horse welfare and performance. Not to be missed. \nCPD certificates available: BHS APC – 6 points     FRC – 6 Hours    RCVS – 6 Hours \nThe complete seminar programme can be found HERE \nTickets can be purchased by clicking HERE  (Booking Fee Applies) \nIf you have any questions or require further information please go to the website below or email: events@here4horses.org.uk or call: 07494 931744.
URL:https://here4horses.org.uk/event/srt02/
LOCATION:Location: National Horseracing College\, The Stables\, Great North Road\, Doncaster\, South Yorkshire\, DN11 0HN\, United Kingdom
ATTACH;FMTTYPE=image/jpeg:https://here4horses.org.uk/wp-content/uploads/2023/02/HFH265_SRT_Seminars_Banner_July.jpg
END:VEVENT
BEGIN:VEVENT
DTSTART;TZID=UTC:20230729T080000
DTEND;TZID=UTC:20230730T170000
DTSTAMP:20260424T085045
CREATED:20230718T145312Z
LAST-MODIFIED:20230718T145408Z
UID:5986-1690617600-1690736400@here4horses.org.uk
SUMMARY:Here4Horses @ Durham County Show
DESCRIPTION:We will be making our first appearance at the Durham County Show – let’s hope for lovely weather and a great crowd. \nWe look forward to seeing you there – with one of our equine friends in attendance. \nTickets can be bought HERE
URL:https://here4horses.org.uk/event/here4horses-durham-county-show/
LOCATION:The Ushaw Estate\, Durham\, Co Durham\, DH7 9RH\, United Kingdom
ATTACH;FMTTYPE=image/jpeg:https://here4horses.org.uk/wp-content/uploads/2023/07/H4H_Banner_Durham_Show.jpg
END:VEVENT
END:VCALENDAR