BEGIN:VCALENDAR
VERSION:2.0
PRODID:-//Here4Horses - ECPv6.15.12.2//NONSGML v1.0//EN
CALSCALE:GREGORIAN
METHOD:PUBLISH
X-WR-CALNAME:Here4Horses
X-ORIGINAL-URL:https://here4horses.org.uk
X-WR-CALDESC:Events for Here4Horses
REFRESH-INTERVAL;VALUE=DURATION:PT1H
X-Robots-Tag:noindex
X-PUBLISHED-TTL:PT1H
BEGIN:VTIMEZONE
TZID:UTC
BEGIN:STANDARD
TZOFFSETFROM:+0000
TZOFFSETTO:+0000
TZNAME:UTC
DTSTART:20220101T000000
END:STANDARD
END:VTIMEZONE
BEGIN:VEVENT
DTSTART;TZID=UTC:20230305T100000
DTEND;TZID=UTC:20230305T150000
DTSTAMP:20260424T161022
CREATED:20230202T151145Z
LAST-MODIFIED:20230202T164358Z
UID:5645-1678010400-1678028400@here4horses.org.uk
SUMMARY:Charity Rug & Tack Sale
DESCRIPTION:Given the wonderful generosity from many of our supporters\, we have decided that a Spring Rug & Tack Sale would be a good idea. \nWe have over 300 pre-loved items in various sizes – all in great condition. \nDelicious hot and cold refreshments available. \nThere will also be our usual fantastic Prize Raffle. \nDon’t miss this opportunity to grab a great bargain in support of Here4Horses.
URL:https://here4horses.org.uk/event/charity-rug-tack-sale-2/
LOCATION:Farnley Farm\, Hunwick\, Crook\, Co Durham\, DL15 0RB\, United Kingdom
ATTACH;FMTTYPE=image/jpeg:https://here4horses.org.uk/wp-content/uploads/2023/02/HFH273_Rug_Tack_Sale_Banner.jpg
END:VEVENT
END:VCALENDAR