BEGIN:VCALENDAR
VERSION:2.0
PRODID:-//Here4Horses - ECPv6.15.12.2//NONSGML v1.0//EN
CALSCALE:GREGORIAN
METHOD:PUBLISH
X-WR-CALNAME:Here4Horses
X-ORIGINAL-URL:https://here4horses.org.uk
X-WR-CALDESC:Events for Here4Horses
REFRESH-INTERVAL;VALUE=DURATION:PT1H
X-Robots-Tag:noindex
X-PUBLISHED-TTL:PT1H
BEGIN:VTIMEZONE
TZID:UTC
BEGIN:STANDARD
TZOFFSETFROM:+0000
TZOFFSETTO:+0000
TZNAME:UTC
DTSTART:20210101T000000
END:STANDARD
END:VTIMEZONE
BEGIN:VEVENT
DTSTART;TZID=UTC:20220422T160000
DTEND;TZID=UTC:20220422T200000
DTSTAMP:20260425T112341
CREATED:20220329T142309Z
LAST-MODIFIED:20220407T154832Z
UID:5087-1650643200-1650657600@here4horses.org.uk
SUMMARY:Dressage Series - Event 01
DESCRIPTION:A great opportunity to compete in a friendly environment whilst helping your local equine charity to raise important funds. \nRosettes to 6th place in each class. Points will be also be awarded to 1st – 6th places. \nThe series champions will be calculated from the highest number of points accumulated over the entire series – at Intro\, Prelim and Novice levels. \nTrophies and prizes in kind will be awarded at the final (26th Aug 2022)\, at each level. \nEntries close 5 days before the event and entries for the next event will be open the day after each competition. \nEntries will be allocated on a first come first served basis. You will be notified of your entry by text. \nPlease contact Wendy on 07494 931744 with any queries you may have. \n  \nClasses for Friday 22nd April 2022: \nClass 1 – Walk & Trot Test – Intro A \nClass 2 – Walk & Trot Test – Intro B \nClass 3 – Prelim 7 \nClass 4 – Prelim 12 \nClass 5 – Novice 24 \nClass 6 – Novice 27 \n  \nWe are aiming to run a ‘Dressage & Go’ format\, to help those with time restrictions and people entering more than one class. \n \nTo enter please scan the QR code or click HERE
URL:https://here4horses.org.uk/event/the-fourth-friday-dressage-competition-series-event-01/
LOCATION:Farnley Farm\, Hunwick\, Crook\, Co Durham\, DL15 0RB\, United Kingdom
ATTACH;FMTTYPE=image/jpeg:https://here4horses.org.uk/wp-content/uploads/2022/03/H4H_Dressage_Series_Banner_01.jpg
END:VEVENT
END:VCALENDAR