BEGIN:VCALENDAR
VERSION:2.0
PRODID:-//Here4Horses - ECPv6.15.12.2//NONSGML v1.0//EN
CALSCALE:GREGORIAN
METHOD:PUBLISH
X-WR-CALNAME:Here4Horses
X-ORIGINAL-URL:https://here4horses.org.uk
X-WR-CALDESC:Events for Here4Horses
REFRESH-INTERVAL;VALUE=DURATION:PT1H
X-Robots-Tag:noindex
X-PUBLISHED-TTL:PT1H
BEGIN:VTIMEZONE
TZID:UTC
BEGIN:STANDARD
TZOFFSETFROM:+0000
TZOFFSETTO:+0000
TZNAME:UTC
DTSTART:20230101T000000
END:STANDARD
END:VTIMEZONE
BEGIN:VEVENT
DTSTART;TZID=UTC:20240922T093000
DTEND;TZID=UTC:20240922T140000
DTSTAMP:20260423T102013
CREATED:20240823T181456Z
LAST-MODIFIED:20240830T155741Z
UID:10554-1726997400-1727013600@here4horses.org.uk
SUMMARY:Charity Pleasure Ride 2024
DESCRIPTION:A fundraiser in aid of your local equine charity \nEnjoy a unique opportunity to explore a beautiful private\, mainly grass route\, not normally open to the public. \nGreat views and canter opportunities. \nSorry – strictly no jumping. \nEscorts can be available for first-timers and individuals who prefer company. \nRefreshments will be available. \nThere will be 2 options on the day: Route 1 (10km) Advance Entry Fee £25 – Route 2 (5km) Advance Entry Fee £15 \nAll entries on the day – add £5 \nTickets available HERE \nEnquiries to: events@here4horses.org.uk or call 07494 931744
URL:https://here4horses.org.uk/event/charity-pleasure-ride-2024/
LOCATION:Farnley Farm\, Hunwick\, Crook\, Co Durham\, DL15 0RB\, United Kingdom
ATTACH;FMTTYPE=image/jpeg:https://here4horses.org.uk/wp-content/uploads/2024/08/Here4Horses_Pleasure_Ride_Banner2.jpg
END:VEVENT
END:VCALENDAR