BEGIN:VCALENDAR
VERSION:2.0
PRODID:-//Here4Horses - ECPv6.15.12.2//NONSGML v1.0//EN
CALSCALE:GREGORIAN
METHOD:PUBLISH
X-WR-CALNAME:Here4Horses
X-ORIGINAL-URL:https://here4horses.org.uk
X-WR-CALDESC:Events for Here4Horses
REFRESH-INTERVAL;VALUE=DURATION:PT1H
X-Robots-Tag:noindex
X-PUBLISHED-TTL:PT1H
BEGIN:VTIMEZONE
TZID:UTC
BEGIN:STANDARD
TZOFFSETFROM:+0000
TZOFFSETTO:+0000
TZNAME:UTC
DTSTART:20230101T000000
END:STANDARD
END:VTIMEZONE
BEGIN:VEVENT
DTSTART;TZID=UTC:20240429T090000
DTEND;TZID=UTC:20240429T170000
DTSTAMP:20260423T195532
CREATED:20240130T130055Z
LAST-MODIFIED:20240130T130109Z
UID:10113-1714381200-1714410000@here4horses.org.uk
SUMMARY:Soundness - 2024
DESCRIPTION:Join us for our 2nd annual\, memorial event to recognise and celebrate the life of Jamie Stewart. \nThis fascinating day offers a unique CPD opportunity for Veterinary Surgeons\, Farriers\, Trainers\, Saddle Fitters and Therapists. \nPrepare to spend invaluable time with world renowned equine orthopaedic specialist Dr Sue Dyson and eminent research farrier Dr Mark Caldwell\, FWCF. \nDon’t miss this truly unique opportunity to learn from the very best whilst supporting the Here4Horses charity. \n£112 per person – Includes all refreshments and lunch. \nTickets are strictly limited – available HERE  Any queries\, please call Wendy on 07494 931744
URL:https://here4horses.org.uk/event/soundness-2024/
LOCATION:Seagold Centurion EC\, Birtley Lane\, Hunwick\, Co Durham\, DL15 0SG\, United Kingdom
ATTACH;FMTTYPE=image/jpeg:https://here4horses.org.uk/wp-content/uploads/2024/01/Here4Horses_Jamie_Memorial_202_WEB_Banner.jpg
END:VEVENT
END:VCALENDAR