BEGIN:VCALENDAR
VERSION:2.0
PRODID:-//Here4Horses - ECPv6.15.12.2//NONSGML v1.0//EN
CALSCALE:GREGORIAN
METHOD:PUBLISH
X-ORIGINAL-URL:https://here4horses.org.uk
X-WR-CALDESC:Events for Here4Horses
REFRESH-INTERVAL;VALUE=DURATION:PT1H
X-Robots-Tag:noindex
X-PUBLISHED-TTL:PT1H
BEGIN:VTIMEZONE
TZID:UTC
BEGIN:STANDARD
TZOFFSETFROM:+0000
TZOFFSETTO:+0000
TZNAME:UTC
DTSTART:20220101T000000
END:STANDARD
END:VTIMEZONE
BEGIN:VEVENT
DTSTART;TZID=UTC:20231001T100000
DTEND;TZID=UTC:20231001T150000
DTSTAMP:20260424T050315
CREATED:20230825T130156Z
LAST-MODIFIED:20230826T111714Z
UID:6116-1696154400-1696172400@here4horses.org.uk
SUMMARY:Autumn Rug & Tack Sale
DESCRIPTION:Almost 500 pre-loved items in various sizes. All in great condition. \n\n\nAndrew Gilbey at The Rug Fairy has been one of our most valued supporters from the outset. \n\n\nThis event will be our third Annual Autumn Rug and Tack Sale and we hope we can rely on Andrew’s invaluable help for many years to come. \n\n\nHere4Horses are proud to recommend The Rug Fairy – for all your cleaning and repairs. \n\n\nDon’t miss this opportunity to grab a great bargain in support of Here4Horses. \n\n\nTombola and Prize Raffle too! \n\n\nHot and cold refreshments available.
URL:https://here4horses.org.uk/event/autumn-rug-tack-sale/
LOCATION:Farnley Farm\, Hunwick\, Crook\, Co Durham\, DL15 0RB\, United Kingdom
ATTACH;FMTTYPE=image/jpeg:https://here4horses.org.uk/wp-content/uploads/2023/08/Here4Horses_Rug_Tack_Banner_02.jpg
END:VEVENT
END:VCALENDAR