BEGIN:VCALENDAR
VERSION:2.0
PRODID:-//Here4Horses - ECPv6.15.12.2//NONSGML v1.0//EN
CALSCALE:GREGORIAN
METHOD:PUBLISH
X-WR-CALNAME:Here4Horses
X-ORIGINAL-URL:https://here4horses.org.uk
X-WR-CALDESC:Events for Here4Horses
REFRESH-INTERVAL;VALUE=DURATION:PT1H
X-Robots-Tag:noindex
X-PUBLISHED-TTL:PT1H
BEGIN:VTIMEZONE
TZID:UTC
BEGIN:STANDARD
TZOFFSETFROM:+0000
TZOFFSETTO:+0000
TZNAME:UTC
DTSTART:20220101T000000
END:STANDARD
END:VTIMEZONE
BEGIN:VEVENT
DTSTART;TZID=UTC:20230929T183000
DTEND;TZID=UTC:20230929T210000
DTSTAMP:20260424T050322
CREATED:20230811T110538Z
LAST-MODIFIED:20230811T153042Z
UID:6059-1696012200-1696021200@here4horses.org.uk
SUMMARY:Scales of Training
DESCRIPTION:Programme: \n6.30pm to 7.30pm: Training towards Rhythm and Suppleness – Rider: Sam Cave & Larry \n7.30pm to 7.45pm: Break \n7.45pm to 8.45pm: Training towards Contact Impulsion and Straightness – Rider: Clara Machin & Jack \n8.45pm to 9pm Collection and Q & A \nTickets £10 – Available HERE \nWe will be running a raffle with some top notch prizes \nRefreshments will be available to purchase \nPlease bring your own chair \nThe Here4Horses team will look forward to meeting you on the night
URL:https://here4horses.org.uk/event/scales-of-training/
LOCATION:Benridge Riding Centre\, Benridge Hagg\, Morpeth\, Northumberland\, NE61 3SB\, United Kingdom
ATTACH;FMTTYPE=image/jpeg:https://here4horses.org.uk/wp-content/uploads/2023/08/HFH310_BBDRC_Scales_Banner2.jpg
END:VEVENT
END:VCALENDAR