BEGIN:VCALENDAR
VERSION:2.0
PRODID:-//Here4Horses - ECPv6.15.12.2//NONSGML v1.0//EN
CALSCALE:GREGORIAN
METHOD:PUBLISH
X-ORIGINAL-URL:https://here4horses.org.uk
X-WR-CALDESC:Events for Here4Horses
REFRESH-INTERVAL;VALUE=DURATION:PT1H
X-Robots-Tag:noindex
X-PUBLISHED-TTL:PT1H
BEGIN:VTIMEZONE
TZID:UTC
BEGIN:STANDARD
TZOFFSETFROM:+0000
TZOFFSETTO:+0000
TZNAME:UTC
DTSTART:20220101T000000
END:STANDARD
END:VTIMEZONE
BEGIN:VEVENT
DTSTART;VALUE=DATE:20230812
DTEND;VALUE=DATE:20230813
DTSTAMP:20260424T085048
CREATED:20230719T145230Z
LAST-MODIFIED:20230720T154127Z
UID:5997-1691798400-1691884799@here4horses.org.uk
SUMMARY:Here4Horses @ Sedgefield Show
DESCRIPTION:The Here4Horses team are excited to be back at Sedgefield Show for 2023 – it proved to be a great event for us to meet and greet the lovely locals. \nCome along and meet the team\, check out our great range of merchandise and say hello to one of our cute pony pals. \nWe look forward to seeing you there. \nTickets for the event can be purchased  HERE
URL:https://here4horses.org.uk/event/sedgefield-show-2023/
LOCATION:Sedgefield Show\, Robert Brown Show Field\, Sedgefield\, Co Durham\, TS21 3BX\, United Kingdom
ATTACH;FMTTYPE=image/jpeg:https://here4horses.org.uk/wp-content/uploads/2023/07/H4H_Banner_Sedgefield_Show.jpg
END:VEVENT
END:VCALENDAR