BEGIN:VCALENDAR
VERSION:2.0
PRODID:-//Here4Horses - ECPv6.15.12.2//NONSGML v1.0//EN
CALSCALE:GREGORIAN
METHOD:PUBLISH
X-ORIGINAL-URL:https://here4horses.org.uk
X-WR-CALDESC:Events for Here4Horses
REFRESH-INTERVAL;VALUE=DURATION:PT1H
X-Robots-Tag:noindex
X-PUBLISHED-TTL:PT1H
BEGIN:VTIMEZONE
TZID:UTC
BEGIN:STANDARD
TZOFFSETFROM:+0000
TZOFFSETTO:+0000
TZNAME:UTC
DTSTART:20220101T000000
END:STANDARD
END:VTIMEZONE
BEGIN:VEVENT
DTSTART;TZID=UTC:20230709T080000
DTEND;TZID=UTC:20230709T170000
DTSTAMP:20260424T103328
CREATED:20230621T154349Z
LAST-MODIFIED:20230623T081549Z
UID:5950-1688889600-1688922000@here4horses.org.uk
SUMMARY:Charity Open Show 2023
DESCRIPTION:Entries are now open for the Here4Horses Charity Open Show 2023. \nSchedule/Entry Form/Payment Details can be downloaded HERE \nRidden and In-Hand classes – £10 per pre-entry (£12 on the day) or 3 for £28. \nAlways a great opportunity to compete in a friendly environment whilst helping your local equine charity. \nRosettes\, 1st to 6th place for all children. \nWe look forward to seeing you on the day!
URL:https://here4horses.org.uk/event/charity-open-show-2023/
LOCATION:Robinsons EquiTeach\, Tunstall Lane\, Middlesbrough\, TS7 0NU\, United Kingdom
ATTACH;FMTTYPE=image/jpeg:https://here4horses.org.uk/wp-content/uploads/2023/06/HFH303_Tunstall_Show_Banner.jpg
END:VEVENT
END:VCALENDAR