BEGIN:VCALENDAR
VERSION:2.0
PRODID:-//Here4Horses - ECPv6.15.12.2//NONSGML v1.0//EN
CALSCALE:GREGORIAN
METHOD:PUBLISH
X-WR-CALNAME:Here4Horses
X-ORIGINAL-URL:https://here4horses.org.uk
X-WR-CALDESC:Events for Here4Horses
REFRESH-INTERVAL;VALUE=DURATION:PT1H
X-Robots-Tag:noindex
X-PUBLISHED-TTL:PT1H
BEGIN:VTIMEZONE
TZID:UTC
BEGIN:STANDARD
TZOFFSETFROM:+0000
TZOFFSETTO:+0000
TZNAME:UTC
DTSTART:20220101T000000
END:STANDARD
END:VTIMEZONE
BEGIN:VEVENT
DTSTART;TZID=UTC:20230606T090000
DTEND;TZID=UTC:20230611T170000
DTSTAMP:20260424T121930
CREATED:20230203T110303Z
LAST-MODIFIED:20230205T154541Z
UID:5650-1686042000-1686502800@here4horses.org.uk
SUMMARY:Bramham International Horse Trials
DESCRIPTION:We are completely indebted to the amazing team at Bramham International Horse Trials for choosing Here4Horses as their charity of the year 2023. \n\n\nHow wonderful is that? \n\n\nWe have lots of plans for making this collaboration a huge success and look forward to seeing you all at our favourite horse trials. \n\n\nIt’s going to be a wonderful event. \n\n\nWhen making ticket purchases please make a small donation to Here4Horses if you possibly can. \n\n\nIt really will make a huge difference to our valuable work for horses and ponies everywhere.
URL:https://here4horses.org.uk/event/bramham-international-horse-trials/
LOCATION:Bramham International Horse Trials\, Bramham Park\, Wetherby\, West Yorkshire\, LS23 6ND\, United Kingdom
ATTACH;FMTTYPE=image/jpeg:https://here4horses.org.uk/wp-content/uploads/2023/02/Here4Horses_Bramham_Banner.jpg
END:VEVENT
END:VCALENDAR