BEGIN:VCALENDAR
VERSION:2.0
PRODID:-//Here4Horses - ECPv6.15.12.2//NONSGML v1.0//EN
CALSCALE:GREGORIAN
METHOD:PUBLISH
X-WR-CALNAME:Here4Horses
X-ORIGINAL-URL:https://here4horses.org.uk
X-WR-CALDESC:Events for Here4Horses
REFRESH-INTERVAL;VALUE=DURATION:PT1H
X-Robots-Tag:noindex
X-PUBLISHED-TTL:PT1H
BEGIN:VTIMEZONE
TZID:UTC
BEGIN:STANDARD
TZOFFSETFROM:+0000
TZOFFSETTO:+0000
TZNAME:UTC
DTSTART:20220101T000000
END:STANDARD
END:VTIMEZONE
BEGIN:VEVENT
DTSTART;VALUE=DATE:20230527
DTEND;VALUE=DATE:20230528
DTSTAMP:20260424T140756
CREATED:20230523T165218Z
LAST-MODIFIED:20230523T165218Z
UID:5895-1685145600-1685231999@here4horses.org.uk
SUMMARY:Northumberland County Show
DESCRIPTION:Come and meet the Here4Horses team along with one of our furry friends and find out about our charity and what we do to help horses and ponies in need. \nLots of our wonderful merchandise for sale\, including our brand-new polo shirts and colouring books. \nWe look forward to seeing you there! \nTickets available HERE
URL:https://here4horses.org.uk/event/northumberland-county-show-2/
LOCATION:Northumberland County Show\, Bywell Hall\, Near Stocksfield\, Northumberland\, NE43 7AB\, United Kingdom
ATTACH;FMTTYPE=image/jpeg:https://here4horses.org.uk/wp-content/uploads/2023/05/H4H_Northumberland_Banner.jpg
END:VEVENT
END:VCALENDAR