BEGIN:VCALENDAR
VERSION:2.0
PRODID:-//Here4Horses - ECPv6.15.12.2//NONSGML v1.0//EN
CALSCALE:GREGORIAN
METHOD:PUBLISH
X-WR-CALNAME:Here4Horses
X-ORIGINAL-URL:https://here4horses.org.uk
X-WR-CALDESC:Events for Here4Horses
REFRESH-INTERVAL;VALUE=DURATION:PT1H
X-Robots-Tag:noindex
X-PUBLISHED-TTL:PT1H
BEGIN:VTIMEZONE
TZID:UTC
BEGIN:STANDARD
TZOFFSETFROM:+0000
TZOFFSETTO:+0000
TZNAME:UTC
DTSTART:20220101T000000
END:STANDARD
END:VTIMEZONE
BEGIN:VEVENT
DTSTART;TZID=UTC:20230430T093000
DTEND;TZID=UTC:20230430T140000
DTSTAMP:20260424T160811
CREATED:20230202T154928Z
LAST-MODIFIED:20230326T124130Z
UID:5647-1682847000-1682863200@here4horses.org.uk
SUMMARY:Farnley Pleasure Ride
DESCRIPTION:Enjoy a unique opportunity to explore a beautiful private\, mainly grass route\, not normally open to the public. \nSorry – strictly no jumping. Escorts can be available for first-timers and individuals who prefer company. \nThere will be 2 options on the day: \nRoute 1 (10km) – Advance Entry Fee £20 and Route 2 (5km) – Advance Entry Fee £10 \nAll entries on the day – add £5 \nTo enter the 10km Pleasure Ride – click HERE \nTo enter the 5km Pleasure Ride – click HERE \nEnquiries to: events@here4horses.org.uk or call: 07494 931744
URL:https://here4horses.org.uk/event/farnley-pleasure-ride/
LOCATION:Farnley Farm\, Hunwick\, Crook\, Co Durham\, DL15 0RB\, United Kingdom
ATTACH;FMTTYPE=image/jpeg:https://here4horses.org.uk/wp-content/uploads/2023/02/Here4Horses_Pleasure_Ride_Postponed_Banner.jpg
END:VEVENT
END:VCALENDAR