BEGIN:VCALENDAR
VERSION:2.0
PRODID:-//Here4Horses - ECPv6.15.12.2//NONSGML v1.0//EN
CALSCALE:GREGORIAN
METHOD:PUBLISH
X-WR-CALNAME:Here4Horses
X-ORIGINAL-URL:https://here4horses.org.uk
X-WR-CALDESC:Events for Here4Horses
REFRESH-INTERVAL;VALUE=DURATION:PT1H
X-Robots-Tag:noindex
X-PUBLISHED-TTL:PT1H
BEGIN:VTIMEZONE
TZID:UTC
BEGIN:STANDARD
TZOFFSETFROM:+0000
TZOFFSETTO:+0000
TZNAME:UTC
DTSTART:20220101T000000
END:STANDARD
END:VTIMEZONE
BEGIN:VEVENT
DTSTART;TZID=UTC:20230407T090000
DTEND;TZID=UTC:20230407T180000
DTSTAMP:20260424T160850
CREATED:20230221T142134Z
LAST-MODIFIED:20230323T153803Z
UID:5694-1680858000-1680890400@here4horses.org.uk
SUMMARY:Charity Dressage 2023
DESCRIPTION:Come and support our amazing charity Here4Horses. \nWe offer a friendly and supportive environment and readers are provided if you need one. \nWe are running our regular classes but you can also enter a team across classes 2-5 requiring 3 or 4 riders. Team scores are collated from the 3 highest scores in the team. \nClass 1 – Rider/ Equine new to dressage (not been placed first) – Walk & Trot test\, Intro A. \nRosettes sponsored by – Rebecca O’Rourke & Esther. Sashes sponsored by – Robynne Goodison & Hair by Jan. \nClass 2 – Open Walk & Trot Test\, Intro A. \nRosettes sponsored by – Equine Rug Renew. Sash sponsored by – Mr & Mrs K Jones\, Glenholme Farm. \nClass 3 – Open Walk\, Trot & Canter Test\, Prelim 1. \nRosettes sponsored by – Lilian’s Sweet Treats. Sash sponsored by – Cath Goode & Lady Totty Valegro. \nClass 4 – Open Walk\, Trot & Canter Test\, Prelim 12. \nRosettes sponsored by – Bev McCarthy & Sox. Sash sponsored by – RBN Physiotherapy. \nClass 5 – Open Walk\, Trot & Canter Test\, Novice 24 (2010) \nRosettes sponsored by – Liz Dixon & Sammy Dougal. Sash sponsored by – Debs & Nuffield Health. \nClass 6 – Team Competition from scores across classes 2-5 \nRosettes sponsored by – Robynne Goodison\, Katy & Douglass\, Val & Perkins\, Jenny & Zsara\, Linda Cummings. \nNo more entries – Dressage now full!
URL:https://here4horses.org.uk/event/charity-dressage-2023/
LOCATION:Robinsons EquiTeach\, Tunstall Lane\, Middlesbrough\, TS7 0NU\, United Kingdom
ATTACH;FMTTYPE=image/jpeg:https://here4horses.org.uk/wp-content/uploads/2023/02/HFH278_Tunstall_Dressage_Banner_WEB.jpg
END:VEVENT
END:VCALENDAR