BEGIN:VCALENDAR
VERSION:2.0
PRODID:-//Here4Horses - ECPv6.15.12.2//NONSGML v1.0//EN
CALSCALE:GREGORIAN
METHOD:PUBLISH
X-WR-CALNAME:Here4Horses
X-ORIGINAL-URL:https://here4horses.org.uk
X-WR-CALDESC:Events for Here4Horses
REFRESH-INTERVAL;VALUE=DURATION:PT1H
X-Robots-Tag:noindex
X-PUBLISHED-TTL:PT1H
BEGIN:VTIMEZONE
TZID:UTC
BEGIN:STANDARD
TZOFFSETFROM:+0000
TZOFFSETTO:+0000
TZNAME:UTC
DTSTART:20210101T000000
END:STANDARD
END:VTIMEZONE
BEGIN:VEVENT
DTSTART;TZID=UTC:20221109T190000
DTEND;TZID=UTC:20221109T210000
DTSTAMP:20260425T001840
CREATED:20221020T125712Z
LAST-MODIFIED:20221020T125712Z
UID:5425-1668020400-1668027600@here4horses.org.uk
SUMMARY:Crafty Christmas
DESCRIPTION:Come along and demonstrate your crafting skills by making your own unique\, ‘Festive Stirrup’. \nJoin us for a fun\, fundraising evening with fellow horse lovers and their friends – festive nibbles\, hot chocolate\, mulled wine and more to be enjoyed. \nTickets available HERE – but hurry as numbers a limited! \nWhat a great idea if you’re stuck for a Christmas gift with a difference!
URL:https://here4horses.org.uk/event/crafty-christmas/
LOCATION:Bishop Auckland Football Club\, Heritage Park\, Stadium Way\, Bishop Auckland\, Co Durham\, DL15 9AE\, United Kingdom
ATTACH;FMTTYPE=image/jpeg:https://here4horses.org.uk/wp-content/uploads/2022/10/Here4Horses_Stirrups_Banner.jpg
END:VEVENT
END:VCALENDAR