BEGIN:VCALENDAR
VERSION:2.0
PRODID:-//Here4Horses - ECPv6.15.12.2//NONSGML v1.0//EN
CALSCALE:GREGORIAN
METHOD:PUBLISH
X-ORIGINAL-URL:https://here4horses.org.uk
X-WR-CALDESC:Events for Here4Horses
REFRESH-INTERVAL;VALUE=DURATION:PT1H
X-Robots-Tag:noindex
X-PUBLISHED-TTL:PT1H
BEGIN:VTIMEZONE
TZID:UTC
BEGIN:STANDARD
TZOFFSETFROM:+0000
TZOFFSETTO:+0000
TZNAME:UTC
DTSTART:20210101T000000
END:STANDARD
END:VTIMEZONE
BEGIN:VEVENT
DTSTART;TZID=UTC:20220515T093000
DTEND;TZID=UTC:20220515T170000
DTSTAMP:20260425T112109
CREATED:20220505T144547Z
LAST-MODIFIED:20220505T144547Z
UID:5204-1652607000-1652634000@here4horses.org.uk
SUMMARY:Show Jumping Competition
DESCRIPTION:Here4Horses volunteers will be in attendance at the Show Jumping Competition\, organised by Askham Bryan College\, Middlesborough Campus Students. \nThis ‘Equine Eggstravaganza’ has been kindly arranged to fundraise for Here4Horses and classes have been designed to encourage new starters and novice combinations wanting to gain experience. \nThe day starts at 9.30 with Mounted Games – prizes with an egg theme are on offer. \nAt 10.15 the Introductory Show Jumping classes will start\, beginning with poles on the floor and progressing to the final class\, a course of fences at 70cm in height. \nAll entries for this event must be made in advance by calling Claire on 07884 276031 \nSee you there!
URL:https://here4horses.org.uk/event/show-jumping-competition/
LOCATION:Robinsons EquiTeach\, Tunstall Lane\, Middlesbrough\, TS7 0NU\, United Kingdom
ATTACH;FMTTYPE=image/jpeg:https://here4horses.org.uk/wp-content/uploads/2022/05/Here4Horses_Askham.jpg
END:VEVENT
END:VCALENDAR