BEGIN:VCALENDAR
VERSION:2.0
PRODID:-//Here4Horses - ECPv6.15.12.2//NONSGML v1.0//EN
CALSCALE:GREGORIAN
METHOD:PUBLISH
X-ORIGINAL-URL:https://here4horses.org.uk
X-WR-CALDESC:Events for Here4Horses
REFRESH-INTERVAL;VALUE=DURATION:PT1H
X-Robots-Tag:noindex
X-PUBLISHED-TTL:PT1H
BEGIN:VTIMEZONE
TZID:UTC
BEGIN:STANDARD
TZOFFSETFROM:+0000
TZOFFSETTO:+0000
TZNAME:UTC
DTSTART:20210101T000000
END:STANDARD
END:VTIMEZONE
BEGIN:VEVENT
DTSTART;TZID=UTC:20220513T180000
DTEND;TZID=UTC:20220513T210000
DTSTAMP:20260425T111004
CREATED:20220503T144847Z
LAST-MODIFIED:20220503T145247Z
UID:5190-1652464800-1652475600@here4horses.org.uk
SUMMARY:BBDRC Dressage Demo
DESCRIPTION:We are really looking forward to meeting everyone at this event\, kindly run by Bedlington\, Blyth and District Riding Club in support of Here4Horses. \nThe event is open to all and tickets are still available via Equo Events at just £5. \nThere is a raffle taking place too with many great prizes to be won. \nSee you there!
URL:https://here4horses.org.uk/event/bbdrc-dressage-demo/
LOCATION:West Moor Farm Equestrian Centre\, Longhorsley\, Northumberland\, NE86 8QX\, United Kingdom
ATTACH;FMTTYPE=image/jpeg:https://here4horses.org.uk/wp-content/uploads/2022/05/BBDRC_Banner2.jpg
END:VEVENT
END:VCALENDAR